Workbook

Sheet стр.1
FE1: Приложение № 4
FE2: к приказу ФАС России
FE3: от 08.12.2022 № 960/22
FE5: Форма 1
A8: Информация о наличии (отсутствии) технической возможности доступа к регулируемым услугам
CH9: по транспортировке газа по магистральным газопроводам | CI9: АО "Дальневосточная генерирующая компания"
CI10: (наименование субъекта естественной монополии)
BY11: в зонах входа на (за) | BZ11: Сентябрь | CR11: 20 | CV11: 26 | CZ11: года
BZ12: (месяц)
A13: 1-30 сентября
A14: (период)
A16: № | F16: Наименование зоны входа | W16: Наименование магистрального трубопровода | AN16: Точка входа | AZ16: Техническая мощность точки входа | BQ16: Поставщик, владелец газа | CJ16: Объемы газа в соответствии с поступившими заявками млн. м3 | DA16: Объемы газа в соответствии с удовлетворенными заявками млн. м3 | DR16: Фактическая мощность магистрального трубопровода в конце зоны входа млн. м3 | EL16: Свободная мощность магистрального трубопровода в конце зоны входа млн. м3
A17: 1 | F17: 2 | W17: 3 | AN17: 4 | AZ17: 5 | BQ17: 6 | CJ17: 7 | DA17: 8 | DR17: 9 | EL17: 10
F18: Точка врезки магистрального газопровода, принадлежащего АО «ДГК», в газопровод-отвод к ГРС-1 г.Хабаровска, принадлежащего АО «Дальтрансгаз» Точка врезки магистрального газопровода, принадлежащего АО «ДГК», в газопровод-отвод к ГРС-1 г.Хабаровска, принадлежащего АО «Дальтрансгаз» Точка врезки магистрального газопровода, принадлежащего АО «ДГК», в газопровод-отвод к ГРС-1 г.Хабаровска, принадлежащего АО «Дальтрансгаз» Точка врезки магистрального газопровода, принадлежащего АО «ДГК», в газопровод-отвод к ГРС-1 г.Хабаровска, принадлежащего АО «Дальтрансгаз» Точка врезки магистрального газопровода, принадлежащего АО «ДГК», в газопровод-отвод к ГРС-1 г.Хабаровска, принадлежащего АО «Дальтрансгаз» Точка врезки магистрального газопровода, принадлежащего АО «ДГК», в газопровод-отвод к ГРС-1 г.Хабаровска, принадлежащего АО «Дальтрансгаз» Точка врезки магистрального газопровода, принадлежащего АО «ДГК», в газопровод-отвод к ГРС-1 г.Хабаровска, принадлежащего АО «Дальтрансгаз» Точка врезки магистрального газопровода, принадлежащего АО «ДГК», в газопровод-отвод к ГРС-1 г.Хабаровска, принадлежащего АО «Дальтрансгаз» Точка врезки магистрального газопровода, принадлежащего АО «ДГК», в газопровод-отвод к ГРС-1 г.Хабаровска, принадлежащего АО «Дальтрансгаз» Точка врезки магистрального газопровода, принадлежащего АО «ДГК», в газопровод-отвод к ГРС-1 г.Хабаровска, принадлежащего АО «Дальтрансгаз» Точка врезки магистрального газопровода, принадлежащего АО «ДГК», в газопровод-отвод к ГРС-1 г.Хабаровска, принадлежащего АО «Дальтрансгаз» Точка врезки магистрального газопровода, принадлежащего АО «ДГК», в газопровод-отвод к ГРС-1 г.Хабаровска, принадлежащего АО «Дальтрансгаз» Точка врезки магистрального газопровода, принадлежащего АО «ДГК», в газопровод-отвод к ГРС-1 г.Хабаровска, принадлежащего АО «Дальтрансгаз» Точка врезки магистрального газопровода, принадлежащего АО «ДГК», в газопровод-отвод к ГРС-1 г.Хабаровска, принадлежащего АО «Дальтрансгаз» Точка врезки магистрального газопровода, принадлежащего АО «ДГК», в газопровод-отвод к ГРС-1 г.Хабаровска, принадлежащего АО «Дальтрансгаз» Точка врезки магистрального газопровода, принадлежащего АО «ДГК», в газопровод-отвод к ГРС-1 г.Хабаровска, принадлежащего АО «Дальтрансгаз» Точка врезки магистрального газопровода, принадлежащего АО «ДГК», в газопровод-отвод к ГРС-1 г.Хабаровска, принадлежащего АО «Дальтрансгаз» Точка врезки магистрального газопровода, принадлежащего АО «ДГК», в газопровод-отвод к ГРС-1 г.Хабаровска, принадлежащего АО «Дальтрансгаз» Точка врезки магистрального газопровода, принадлежащего АО «ДГК», в газопровод-отвод к ГРС-1 г.Хабаровска, принадлежащего АО «Дальтрансгаз» Точка врезки магистрального газопровода, принадлежащего АО «ДГК», в газопровод-отвод к ГРС-1 г.Хабаровска, принадлежащего АО «Дальтрансгаз» Точка врезки магистрального газопровода, принадлежащего АО «ДГК», в газопровод-отвод к ГРС-1 г.Хабаровска, принадлежащего АО «Дальтрансгаз» Точка врезки магистрального газопровода, принадлежащего АО «ДГК», в газопровод-отвод к ГРС-1 г.Хабаровска, принадлежащего АО «Дальтрансгаз» | W18: Газопровод-отвод к предприятию ОАО «СК «Агроэнерго» | AN18: Точка врезки магистрального газопровода, принадлежащего АО «ДГК», в газопровод-отвод к ГРС-1 г.Хабаровска, принадлежащего АО «Дальтрансгаз» Точка врезки магистрального газопровода, принадлежащего АО «ДГК», в газопровод-отвод к ГРС-1 г.Хабаровска, принадлежащего АО «Дальтрансгаз» Точка врезки магистрального газопровода, принадлежащего АО «ДГК», в газопровод-отвод к ГРС-1 г.Хабаровска, принадлежащего АО «Дальтрансгаз» Точка врезки магистрального газопровода, принадлежащего АО «ДГК», в газопровод-отвод к ГРС-1 г.Хабаровска, принадлежащего АО «Дальтрансгаз» Точка врезки магистрального газопровода, принадлежащего АО «ДГК», в газопровод-отвод к ГРС-1 г.Хабаровска, принадлежащего АО «Дальтрансгаз» Точка врезки магистрального газопровода, принадлежащего АО «ДГК», в газопровод-отвод к ГРС-1 г.Хабаровска, принадлежащего АО «Дальтрансгаз» Точка врезки магистрального газопровода, принадлежащего АО «ДГК», в газопровод-отвод к ГРС-1 г.Хабаровска, принадлежащего АО «Дальтрансгаз» Точка врезки магистрального газопровода, принадлежащего АО «ДГК», в газопровод-отвод к ГРС-1 г.Хабаровска, принадлежащего АО «Дальтрансгаз» Точка врезки магистрального газопровода, принадлежащего АО «ДГК», в газопровод-отвод к ГРС-1 г.Хабаровска, принадлежащего АО «Дальтрансгаз» Точка врезки магистрального газопровода, принадлежащего АО «ДГК», в газопровод-отвод к ГРС-1 г.Хабаровска, принадлежащего АО «Дальтрансгаз» Точка врезки магистрального газопровода, принадлежащего АО «ДГК», в газопровод-отвод к ГРС-1 г.Хабаровска, принадлежащего АО «Дальтрансгаз» Точка врезки магистрального газопровода, принадлежащего АО «ДГК», в газопровод-отвод к ГРС-1 г.Хабаровска, принадлежащего АО «Дальтрансгаз» Точка врезки магистрального газопровода, принадлежащего АО «ДГК», в газопровод-отвод к ГРС-1 г.Хабаровска, принадлежащего АО «Дальтрансгаз» Точка врезки магистрального газопровода, принадлежащего АО «ДГК», в газопровод-отвод к ГРС-1 г.Хабаровска, принадлежащего АО «Дальтрансгаз» Точка врезки магистрального газопровода, принадлежащего АО «ДГК», в газопровод-отвод к ГРС-1 г.Хабаровска, принадлежащего АО «Дальтрансгаз» Точка врезки магистрального газопровода, принадлежащего АО «ДГК», в газопровод-отвод к ГРС-1 г.Хабаровска, принадлежащего АО «Дальтрансгаз» Точка врезки магистрального газопровода, принадлежащего АО «ДГК», в газопровод-отвод к ГРС-1 г.Хабаровска, принадлежащего АО «Дальтрансгаз» Точка врезки магистрального газопровода, принадлежащего АО «ДГК», в газопровод-отвод к ГРС-1 г.Хабаровска, принадлежащего АО «Дальтрансгаз» Точка врезки магистрального газопровода, принадлежащего АО «ДГК», в газопровод-отвод к ГРС-1 г.Хабаровска, принадлежащего АО «Дальтрансгаз» Точка врезки магистрального газопровода, принадлежащего АО «ДГК», в газопровод-отвод к ГРС-1 г.Хабаровска, принадлежащего АО «Дальтрансгаз» Точка врезки магистрального газопровода, принадлежащего АО «ДГК», в газопровод-отвод к ГРС-1 г.Хабаровска, принадлежащего АО «Дальтрансгаз» Точка врезки магистрального газопровода, принадлежащего АО «ДГК», в газопровод-отвод к ГРС-1 г.Хабаровска, принадлежащего АО «Дальтрансгаз» | AZ18: 11000 нм3/ч, | BQ18: АО "Газпром газораспределение Дальний Восток | CJ18: 0.000494 | DA18: =CJ18 -> 0.000494 | DR18: =0.011*24*30 -> 7.92 | EL18: =DR18-DA18-0.3829+0.000494 -> 7.5371

Sheet стр.2
FE1: Форма 2
A4: Информация о наличии (отсутствии) технической возможности доступа к регулируемым услугам
CH5: по транспортировке газа по магистральным газопроводам | CI5: =стр.1!CI9 -> АО "Дальневосточная генерирующая компания"
CI6: (наименование субъекта естественной монополии)
BY7: в зонах выхода на (за) | BZ7: =стр.1!BZ11 -> Сентябрь | CR7: 20 | CV7: =стр.1!CV11 -> 26 | CZ7: года
BZ8: (месяц)
A9: =стр.1!A13 -> 1-30 сентября
A10: (период)
A12: № | F12: Наименование зоны выхода | W12: Наименование магистрального трубопровода | AN12: Точка выхода | AZ12: Техническая мощность точки выхода | BQ12: Потребитель, владелец газа | CJ12: Объемы газа в соответствии с поступившими заявками млн. м3 | DA12: Объемы газа в соответствии с удовлетворенными заявками млн. м3 | DR12: Фактическая мощность магистрального трубопровода в начале зоны выхода млн. м3 | EL12: Свободная мощность магистрального трубопровода в точке выхода млн. м3
A13: 1 | F13: 2 | W13: 3 | AN13: 4 | AZ13: 5 | BQ13: 6 | CJ13: 7 | DA13: 8 | DR13: 9 | EL13: 10
A14: 1 | F14: =стр.1!F18 -> Точка врезки магистрального газопровода, принадлежащего АО «ДГК», в газопровод-отвод к ГРС-1 г.Хабаровска, принадлежащего АО «Дальтрансгаз» Точка врезки магистрального газопровода, принадлежащего АО «ДГК», в газопровод-отвод к ГРС-1 г.Хабаровска, принадлежащего АО «Дальтрансгаз» Точка врезки магистрального газопровода, принадлежащего АО «ДГК», в газопровод-отвод к ГРС-1 г.Хабаровска, принадлежащего АО «Дальтрансгаз» Точка врезки магистрального газопровода, принадлежащего АО «ДГК», в газопровод-отвод к ГРС-1 г.Хабаровска, принадлежащего АО «Дальтрансгаз» Точка врезки магистрального газопровода, принадлежащего АО «ДГК», в газопровод-отвод к ГРС-1 г.Хабаровска, принадлежащего АО «Дальтрансгаз» Точка врезки магистрального газопровода, принадлежащего АО «ДГК», в газопровод-отвод к ГРС-1 г.Хабаровска, принадлежащего АО «Дальтрансгаз» Точка врезки магистрального газопровода, принадлежащего АО «ДГК», в газопровод-отвод к ГРС-1 г.Хабаровска, принадлежащего АО «Дальтрансгаз» Точка врезки магистрального газопровода, принадлежащего АО «ДГК», в газопровод-отвод к ГРС-1 г.Хабаровска, принадлежащего АО «Дальтрансгаз» Точка врезки магистрального газопровода, принадлежащего АО «ДГК», в газопровод-отвод к ГРС-1 г.Хабаровска, принадлежащего АО «Дальтрансгаз» Точка врезки магистрального газопровода, принадлежащего АО «ДГК», в газопровод-отвод к ГРС-1 г.Хабаровска, принадлежащего АО «Дальтрансгаз» Точка врезки магистрального газопровода, принадлежащего АО «ДГК», в газопровод-отвод к ГРС-1 г.Хабаровска, принадлежащего АО «Дальтрансгаз» Точка врезки магистрального газопровода, принадлежащего АО «ДГК», в газопровод-отвод к ГРС-1 г.Хабаровска, принадлежащего АО «Дальтрансгаз» Точка врезки магистрального газопровода, принадлежащего АО «ДГК», в газопровод-отвод к ГРС-1 г.Хабаровска, принадлежащего АО «Дальтрансгаз» Точка врезки магистрального газопровода, принадлежащего АО «ДГК», в газопровод-отвод к ГРС-1 г.Хабаровска, принадлежащего АО «Дальтрансгаз» Точка врезки магистрального газопровода, принадлежащего АО «ДГК», в газопровод-отвод к ГРС-1 г.Хабаровска, принадлежащего АО «Дальтрансгаз» Точка врезки магистрального газопровода, принадлежащего АО «ДГК», в газопровод-отвод к ГРС-1 г.Хабаровска, принадлежащего АО «Дальтрансгаз» Точка врезки магистрального газопровода, принадлежащего АО «ДГК», в газопровод-отвод к ГРС-1 г.Хабаровска, принадлежащего АО «Дальтрансгаз» Точка врезки магистрального газопровода, принадлежащего АО «ДГК», в газопровод-отвод к ГРС-1 г.Хабаровска, принадлежащего АО «Дальтрансгаз» Точка врезки магистрального газопровода, принадлежащего АО «ДГК», в газопровод-отвод к ГРС-1 г.Хабаровска, принадлежащего АО «Дальтрансгаз» Точка врезки магистрального газопровода, принадлежащего АО «ДГК», в газопровод-отвод к ГРС-1 г.Хабаровска, принадлежащего АО «Дальтрансгаз» Точка врезки магистрального газопровода, принадлежащего АО «ДГК», в газопровод-отвод к ГРС-1 г.Хабаровска, принадлежащего АО «Дальтрансгаз» Точка врезки магистрального газопровода, принадлежащего АО «ДГК», в газопровод-отвод к ГРС-1 г.Хабаровска, принадлежащего АО «Дальтрансгаз» | W14: =стр.1!W18 -> Газопровод-отвод к предприятию ОАО «СК «Агроэнерго» | AN14: =стр.1!AN18 -> Точка врезки магистрального газопровода, принадлежащего АО «ДГК», в газопровод-отвод к ГРС-1 г.Хабаровска, принадлежащего АО «Дальтрансгаз» Точка врезки магистрального газопровода, принадлежащего АО «ДГК», в газопровод-отвод к ГРС-1 г.Хабаровска, принадлежащего АО «Дальтрансгаз» Точка врезки магистрального газопровода, принадлежащего АО «ДГК», в газопровод-отвод к ГРС-1 г.Хабаровска, принадлежащего АО «Дальтрансгаз» Точка врезки магистрального газопровода, принадлежащего АО «ДГК», в газопровод-отвод к ГРС-1 г.Хабаровска, принадлежащего АО «Дальтрансгаз» Точка врезки магистрального газопровода, принадлежащего АО «ДГК», в газопровод-отвод к ГРС-1 г.Хабаровска, принадлежащего АО «Дальтрансгаз» Точка врезки магистрального газопровода, принадлежащего АО «ДГК», в газопровод-отвод к ГРС-1 г.Хабаровска, принадлежащего АО «Дальтрансгаз» Точка врезки магистрального газопровода, принадлежащего АО «ДГК», в газопровод-отвод к ГРС-1 г.Хабаровска, принадлежащего АО «Дальтрансгаз» Точка врезки магистрального газопровода, принадлежащего АО «ДГК», в газопровод-отвод к ГРС-1 г.Хабаровска, принадлежащего АО «Дальтрансгаз» Точка врезки магистрального газопровода, принадлежащего АО «ДГК», в газопровод-отвод к ГРС-1 г.Хабаровска, принадлежащего АО «Дальтрансгаз» Точка врезки магистрального газопровода, принадлежащего АО «ДГК», в газопровод-отвод к ГРС-1 г.Хабаровска, принадлежащего АО «Дальтрансгаз» Точка врезки магистрального газопровода, принадлежащего АО «ДГК», в газопровод-отвод к ГРС-1 г.Хабаровска, принадлежащего АО «Дальтрансгаз» Точка врезки магистрального газопровода, принадлежащего АО «ДГК», в газопровод-отвод к ГРС-1 г.Хабаровска, принадлежащего АО «Дальтрансгаз» Точка врезки магистрального газопровода, принадлежащего АО «ДГК», в газопровод-отвод к ГРС-1 г.Хабаровска, принадлежащего АО «Дальтрансгаз» Точка врезки магистрального газопровода, принадлежащего АО «ДГК», в газопровод-отвод к ГРС-1 г.Хабаровска, принадлежащего АО «Дальтрансгаз» Точка врезки магистрального газопровода, принадлежащего АО «ДГК», в газопровод-отвод к ГРС-1 г.Хабаровска, принадлежащего АО «Дальтрансгаз» Точка врезки магистрального газопровода, принадлежащего АО «ДГК», в газопровод-отвод к ГРС-1 г.Хабаровска, принадлежащего АО «Дальтрансгаз» Точка врезки магистрального газопровода, принадлежащего АО «ДГК», в газопровод-отвод к ГРС-1 г.Хабаровска, принадлежащего АО «Дальтрансгаз» Точка врезки магистрального газопровода, принадлежащего АО «ДГК», в газопровод-отвод к ГРС-1 г.Хабаровска, принадлежащего АО «Дальтрансгаз» Точка врезки магистрального газопровода, принадлежащего АО «ДГК», в газопровод-отвод к ГРС-1 г.Хабаровска, принадлежащего АО «Дальтрансгаз» Точка врезки магистрального газопровода, принадлежащего АО «ДГК», в газопровод-отвод к ГРС-1 г.Хабаровска, принадлежащего АО «Дальтрансгаз» Точка врезки магистрального газопровода, принадлежащего АО «ДГК», в газопровод-отвод к ГРС-1 г.Хабаровска, принадлежащего АО «Дальтрансгаз» Точка врезки магистрального газопровода, принадлежащего АО «ДГК», в газопровод-отвод к ГРС-1 г.Хабаровска, принадлежащего АО «Дальтрансгаз» | AZ14: 11000 нм3/ч | BQ14: ООО «СКИФАГРО-ДВ» | CJ14: =стр.1!CJ18 -> 0.000494 | DA14: =стр.1!DA18 -> 0.000494 | DR14: =стр.1!DR18 -> 7.92 | EL14: =стр.1!EL18 -> 7.5371

Sheet стр.3
FE1: Форма 3
A4: Информация о наличии (отсутствии) технической возможности доступа к регулируемым услугам
CH5: по транспортировке газа по магистральным газопроводам | CI5: =стр.1!CI9 -> АО "Дальневосточная генерирующая компания"
CI6: (наименование субъекта естественной монополии)
CH7: между зонами входа и выхода на (за) | CI7: =стр.1!BZ11 -> Сентябрь | DA7: 20 | DE7: 26 | DI7: года
CI8: (месяц)
A9: =стр.1!A13 -> 1-30 сентября
A10: (период)
A12: Номер зоны выхода | K12: Наименование зоны выхода | Z12: Номер и наименование зон входа
Z13: 1 | BH13: 2 | CP13: 3 | DX13: …
Z14: Y | BH14: YY | CP14: YYY | DX14: …
Z15: Величина свободной мощности млн. м3 | AP15: Лимитирующий участок | BH15: Величина свободной мощности | BX15: Лимитирующий участок | CP15: Величина свободной мощности | DF15: Лимитирующий участок | DX15: Величина свободной мощности | EN15: Лимитирующий участок
A16: 1 | K16: =стр.2!W14 -> Газопровод-отвод к предприятию ОАО «СК «Агроэнерго» | Z16: =стр.1!EL18 -> 7.5371 | AP16: - | BH16: - | BX16: - | CP16: - | DF16: - | DX16: - | EN16: -

Sheet стр.4
FE1: Форма 4
A4: Информация о наличии (отсутствии) технической возможности доступа к регулируемым услугам
CH5: по транспортировке газа по магистральным газопроводам | CI5: =стр.1!CI9 -> АО "Дальневосточная генерирующая компания"
CI6: (наименование субъекта естественной монополии)
BQ7: на (за) | BR7: =стр.1!BZ11 -> Сентябрь | CJ7: 20 | CN7: =стр.1!CV11 -> 26 | CR7: года
BR8: (месяц)
A9: =стр.1!A13 -> 1-30 сентября
A10: (период)
A12: Зона входа в магистральный газопровод | W12: Зона выхода из магистрального газопровода | AS12: Поставщик газа/ потребитель | BO12: Объемы газа в соответствии с поступившими заявками, млн. м3 | CT12: Объемы газа в соответствии с удовлетворенными заявками, млн. м3 | DZ12: Свободная мощность магистральных трубопроводов, млн. м3
A13: 1 | W13: 2 | AS13: 3 | BO13: 4 | CT13: 5 | DZ13: 6
A14: Точка врезки магистрального газопровода, принадлежащего АО «ДГК», в газопровод-отвод к ГРС-1 г.Хабаровска, принадлежащего АО «Дальтрансгаз» | B14: Точка врезки магистрального газопровода, принадлежащего АО «ДГК», в газопровод-отвод к ГРС-1 г.Хабаровска, принадлежащего АО «Дальтрансгаз» | C14: Точка врезки магистрального газопровода, принадлежащего АО «ДГК», в газопровод-отвод к ГРС-1 г.Хабаровска, принадлежащего АО «Дальтрансгаз» | D14: Точка врезки магистрального газопровода, принадлежащего АО «ДГК», в газопровод-отвод к ГРС-1 г.Хабаровска, принадлежащего АО «Дальтрансгаз» | E14: Точка врезки магистрального газопровода, принадлежащего АО «ДГК», в газопровод-отвод к ГРС-1 г.Хабаровска, принадлежащего АО «Дальтрансгаз» | F14: Точка врезки магистрального газопровода, принадлежащего АО «ДГК», в газопровод-отвод к ГРС-1 г.Хабаровска, принадлежащего АО «Дальтрансгаз» | G14: Точка врезки магистрального газопровода, принадлежащего АО «ДГК», в газопровод-отвод к ГРС-1 г.Хабаровска, принадлежащего АО «Дальтрансгаз» | H14: Точка врезки магистрального газопровода, принадлежащего АО «ДГК», в газопровод-отвод к ГРС-1 г.Хабаровска, принадлежащего АО «Дальтрансгаз» | I14: Точка врезки магистрального газопровода, принадлежащего АО «ДГК», в газопровод-отвод к ГРС-1 г.Хабаровска, принадлежащего АО «Дальтрансгаз» | J14: Точка врезки магистрального газопровода, принадлежащего АО «ДГК», в газопровод-отвод к ГРС-1 г.Хабаровска, принадлежащего АО «Дальтрансгаз» | K14: Точка врезки магистрального газопровода, принадлежащего АО «ДГК», в газопровод-отвод к ГРС-1 г.Хабаровска, принадлежащего АО «Дальтрансгаз» | L14: Точка врезки магистрального газопровода, принадлежащего АО «ДГК», в газопровод-отвод к ГРС-1 г.Хабаровска, принадлежащего АО «Дальтрансгаз» | M14: Точка врезки магистрального газопровода, принадлежащего АО «ДГК», в газопровод-отвод к ГРС-1 г.Хабаровска, принадлежащего АО «Дальтрансгаз» | N14: Точка врезки магистрального газопровода, принадлежащего АО «ДГК», в газопровод-отвод к ГРС-1 г.Хабаровска, принадлежащего АО «Дальтрансгаз» | O14: Точка врезки магистрального газопровода, принадлежащего АО «ДГК», в газопровод-отвод к ГРС-1 г.Хабаровска, принадлежащего АО «Дальтрансгаз» | P14: Точка врезки магистрального газопровода, принадлежащего АО «ДГК», в газопровод-отвод к ГРС-1 г.Хабаровска, принадлежащего АО «Дальтрансгаз» | Q14: Точка врезки магистрального газопровода, принадлежащего АО «ДГК», в газопровод-отвод к ГРС-1 г.Хабаровска, принадлежащего АО «Дальтрансгаз» | R14: Точка врезки магистрального газопровода, принадлежащего АО «ДГК», в газопровод-отвод к ГРС-1 г.Хабаровска, принадлежащего АО «Дальтрансгаз» | S14: Точка врезки магистрального газопровода, принадлежащего АО «ДГК», в газопровод-отвод к ГРС-1 г.Хабаровска, принадлежащего АО «Дальтрансгаз» | T14: Точка врезки магистрального газопровода, принадлежащего АО «ДГК», в газопровод-отвод к ГРС-1 г.Хабаровска, принадлежащего АО «Дальтрансгаз» | U14: Точка врезки магистрального газопровода, принадлежащего АО «ДГК», в газопровод-отвод к ГРС-1 г.Хабаровска, принадлежащего АО «Дальтрансгаз» | V14: Точка врезки магистрального газопровода, принадлежащего АО «ДГК», в газопровод-отвод к ГРС-1 г.Хабаровска, принадлежащего АО «Дальтрансгаз» | W14: АГРС-5, принадлежащая АО «ДГК» | AS14: ООО «СКИФАГРО-ДВ» | BO14: =стр.1!CJ18 -> 0.000494 | CT14: =BO14 -> 0.000494 | DZ14: =стр.1!EL18 -> 7.5371
A15: Итого:

Sheet стр.5
FE1: Форма 5
A4: Информация о наличии (отсутствии) технической возможности доступа к регулируемым услугам по транспортировке газа по магистральным газопроводам для целей определения возможности технологического присоединения к газораспределительным сетям
A6: Субъект Российской Федерации | S6: Наименование газораспределительной станции | AN6: Проектная мощность (производительность) газораспределительной станции, тыс.м3/час | BI6: Загрузка газораспределительной станции тыс.м3/час | CD6: Суммарный объем газа по действующим техническим условиям на подключение, тыс.м3/час | DB6: Наличие (дефицит) пропускной способности тыс.м3/час | DR6: Срок мероприятий по увеличению пропускной способности | EN6: Параметры увеличения
A7: 1 | S7: 2 | AN7: 3 | BI7: 4 | CD7: 5 | DB7: 6 | DR7: 7 | EN7: 8
A8: Хабаровский край | S8: АГРС-5 | AN8: =11 -> 11 | BI8: =стр.1!DR18-стр.1!EL18 -> 0.3829 | CD8: =0.0296129+3.86255 -> 3.8921629 | DB8: =AN8-CD8 -> 7.1078371 | DR8: - | EN8: -
